BEGIN:VCALENDAR
VERSION:2.0
PRODID:-//wp-events-plugin.com//7.2.3.1//EN
BEGIN:VEVENT
UID:8@igb-vorsorge.de
DTSTART;TZID=Europe/Berlin:20260325T173000
DTEND;TZID=Europe/Berlin:20260325T183000
DTSTAMP:20251110T105401Z
URL:https://igb-vorsorge.de/events/gutes-tun-spenden-zustiften-oder-eigene
 -stiftung-gruenden/
SUMMARY:Gutes tun: Spenden\, Zustiften oder eigene Stiftung gründen
DESCRIPTION:Viele Verbraucher und Unternehmer möchten ihrem Nachlass oder 
 einem Teil davon einen Sinn geben und suchen nach Wegen\, um Gutes auch ü
 ber das eigene Leben hinaus zu bewirken. Doch diese Entscheidung will gut 
 vorbereitet sein. \n\nIn diesem einstündigen Kundenevent erleben Sie\, w
 ie Rechtsanwalt Stefan Skulesch mit anschaulichen Praxisbeispielen und
  juristischem Know-how die verschiedenen Möglichkeiten des Stiftens aufze
 igt. Er kennt die Anliegen von Verbraucherinnen und Verbrauchern ebenso wi
 e die rechtlichen Rahmenbedingungen – und vermittelt Impulse\, die helfe
 n\, die individuell passende Lösung zu finden.\n\nThemen im Überblic
 k:\n\n 	Vorteile von Stiftungen \n\n\n 	Mögliche Nachteile und sinnvolle
  Alternativen \n\n\n 	Ab welchen Beträgen Stiften möglich ist \n\n\n 	
 Grenzen und Gestaltungsspielräume beim Stiften \n\nErfahren Sie\, wie Si
 e mit gut geplanten Stiftungen nachhaltig Gutes bewirken können – z
 u Lebzeiten oder über das eigene Leben hinaus. 
ATTACH;FMTTYPE=image/jpeg:https://igb-vorsorge.de/wp-content/uploads/2025/
 11/Stefan-Skulesch-e1762771967404.png
LOCATION:https://institutgenerationenberatung.clickmeeting.com/gutes-tun-sp
 enden-zustiften-oder-eigene-stiftung-grunden/register
END:VEVENT
BEGIN:VTIMEZONE
TZID:Europe/Berlin
X-LIC-LOCATION:Europe/Berlin
BEGIN:STANDARD
DTSTART:20251026T020000
TZOFFSETFROM:+0200
TZOFFSETTO:+0100
TZNAME:CET
END:STANDARD
END:VTIMEZONE
END:VCALENDAR