BEGIN:VCALENDAR
VERSION:2.0
PRODID:-//wp-events-plugin.com//7.2.3.1//EN
BEGIN:VEVENT
UID:3@igb-vorsorge.de
DTSTART:20241211T170000Z
DTEND:20241211T180000Z
DTSTAMP:20240920T142957Z
URL:https://igb-vorsorge.de/events/ihre-rechte-sichern-vorsorgevollmacht-u
 nd-testament-leicht-erklaert-kundenveranstaltung/
SUMMARY:Ihre Rechte sichern: Vorsorgevollmacht und Testament leicht erklär
 t - Kundenveranstaltung
DESCRIPTION:In einer immer komplexer werdenden Welt ist es wichtig\, frühz
 eitig Vorsorge zu treffen\, um die eigene Selbstbestimmung zu sichern. Wen
 iger als die Hälfte der über 46-Jährigen haben eine wirksame Vorsorgevo
 llmacht\, ein Testament oder eine Patientenverfügung erstellt. Die Folgen
  fehlender Regelungen können im Ernstfall weitreichend sein.\n\nIn unsere
 m Web-Event erhalten Sie einen umfassenden Überblick über die wichtigste
 n Vorsorgemaßnahmen. Unsere Experten zeigen Ihnen auf\, wie Sie sich und 
 Ihre Angehörigen optimal absichern können – ob in Bezug auf Ihre recht
 liche Vorsorge\, Ihre finanzielle Absicherung im Pflegefall oder den letzt
 en Willen.\n\nUnsere Referenten\, Rechtsanwalt Martin Puchert und Gener
 ationenBerater Hans Fink\, bringen fundiertes Wissen aus der Praxis mit un
 d präsentieren klare Handlungsempfehlungen\, die Sie sofort umsetzen kön
 nen.\n\nNutzen Sie diese Gelegenheit\, um sich umfassend zu informieren un
 d Ihre Vorsorge in die eigenen Hände zu nehmen.
ATTACH;FMTTYPE=image/jpeg:https://igb-vorsorge.de/wp-content/uploads/2024/
 09/Banner_16-9.png
LOCATION:https://institutgenerationenberatung.clickmeeting.com/ihre-rechte-
 sichern-vorsorgevollmacht-und-testament-leicht-erklart-kundenveranstaltung
 /register
END:VEVENT
END:VCALENDAR