BEGIN:VCALENDAR
VERSION:2.0
PRODID:-//wp-events-plugin.com//7.2.3.1//EN
BEGIN:VEVENT
UID:2@igb-vorsorge.de
DTSTART:20240910T170000Z
DTEND:20240910T180000Z
DTSTAMP:20240819T054900Z
URL:https://igb-vorsorge.de/events/notfallplanung-fuer-unternehmen-die-bed
 eutung-einer-unternehmervollmacht-2/
SUMMARY:Notfallplanung für Unternehmen: Die Bedeutung einer Unternehmervol
 lmacht
DESCRIPTION:Entdecken Sie in unserer Kundenveranstaltung\, wie Unternehmen 
 auch in Krisensituationen oder bei Abwesenheit der Geschäftsführung reib
 ungslos funktionieren können. Jedes Unternehmen\, von Kleinstbetrieben bi
 s zu Kapitalgesellschaften\, muss darauf vorbereitet sein\, dass Aufträge
  weiterhin bearbeitet\, Rechnungen bezahlt und Außenstände beglichen wer
 den\, auch wenn die Geschäftsleitung unerwartet ausfällt.\n\nDieses Vera
 nstaltung beleuchtet\, warum eine Unternehmervollmacht unerlässlich ist. 
 Ohne eine solche Vollmacht dürfen weder Familienangehörige noch andere G
 esellschafter das Unternehmen gesetzlich vertreten. Die Risiken einer fehl
 enden Regelung sind erheblich: Es könnte passieren\, dass eine fachfremde
 \, vom Gericht bestellte Betreuungsperson die Geschäftsführung übernimm
 t\, was zwar das aktuelle Vermögen des Unternehmens sichert\, aber wichti
 ge Geschäftsaktivitäten wie Neuaufträge vernachlässigt.\n\nUnsere Expe
 rten\, Anwalt Martin Puchert und GenerationenBerater Alessandro Waidmann v
 on der finApart-Wirtschaftsberatung und Finanzdienstleistung\, bieten eine
 n tiefen Einblick in die grundlegenden Möglichkeiten\, die eine Unternehm
 ervollmacht bietet\, und liefern praktische Tipps für deren Umsetzung. M
 elden Sie sich jetzt an.
ATTACH;FMTTYPE=image/jpeg:https://igb-vorsorge.de/wp-content/uploads/2024/
 07/Notfallplanung-fuer-Unternehmen-Die-Bedeutung-der-Unternehmervollmacht-
 Kundenveranstaltung-4.png
CATEGORIES:Unternehmer
END:VEVENT
END:VCALENDAR