BEGIN:VCALENDAR
VERSION:2.0
PRODID:-//wp-events-plugin.com//7.2.3.1//EN
BEGIN:VEVENT
UID:9@igb-vorsorge.de
DTSTART;TZID=Europe/Berlin:20260624T173000
DTEND;TZID=Europe/Berlin:20260624T183000
DTSTAMP:20251110T141106Z
URL:https://igb-vorsorge.de/events/schutz-fuer-minderjaehrige/
SUMMARY:Schutz für Minderjährige
DESCRIPTION:Eltern\, Großeltern\, Paten\, Tanten und Onkel spielen eine ze
 ntrale Rolle in der Entwicklung von Kindern – oft auch finanziell. Sie s
 ichern die Ausbildung durch kluge Finanzentscheidungen ab\, während viele
  Eltern bereits Immobilien-Eigentümer sind – sei es durch Kauf oder Er
 be.\nDoch was passiert im Ernstfall? Besonders in Patchwork-Familien entst
 ehen rechtlich komplexe Situationen. Neben finanziellen Aspekten gibt es v
 iele rechtliche Fragen\, die oft übersehen werden – genau hier setzen F
 achanwalt für Erbrecht Martin Puchert ein und erkärt\, welche Vorkehrung
  für den Ernstfall notwendig sind:\nThemen im Überblick:\n\n\n 	Sorgerec
 htsvollmacht – wer kümmert sich im Notfall?\n 	Sorgerechtsverfügung 
 – rechtliche Klarheit für den Ernstfall\n 	Vermögenssorge – finanzi
 elle Absicherung der Kinder\n 	Testamentsvollstreckung – kontrollierte N
 achlassregelung\n\nSichern Sie sich wertvolles Expertenwissen - für ein 
 sorgenfrei Zukunft Ihrer Familie!
ATTACH;FMTTYPE=image/jpeg:https://igb-vorsorge.de/wp-content/uploads/2024/
 12/Martin-Puchert_24.jpg
LOCATION:https://institutgenerationenberatung.clickmeeting.com/schutz-fur-m
 inderjahrige/register
END:VEVENT
BEGIN:VTIMEZONE
TZID:Europe/Berlin
X-LIC-LOCATION:Europe/Berlin
BEGIN:DAYLIGHT
DTSTART:20260329T030000
TZOFFSETFROM:+0100
TZOFFSETTO:+0200
TZNAME:CEST
END:DAYLIGHT
END:VTIMEZONE
END:VCALENDAR