BEGIN:VCALENDAR
VERSION:2.0
PRODID:-//wp-events-plugin.com//7.2.3.1//EN
BEGIN:VEVENT
UID:10@igb-vorsorge.de
DTSTART;TZID=Europe/Berlin:20260930T173000
DTEND;TZID=Europe/Berlin:20260930T183000
DTSTAMP:20251110T141455Z
URL:https://igb-vorsorge.de/events/so-sorgen-vermoegende-kunden-am-besten-
 vor/
SUMMARY:So sorgen vermögende Kunden am besten vor
DESCRIPTION:Wer Vermögen aufgebaut hat\, möchte es gut geschützt und ger
 egelt wissen. Damit Partner handlungsfähig bleiben und Kinder nicht in St
 reit geraten\, sind rechtliche Vorkehrungen entscheidend.\n\nIn diesem ein
 stündigen Kundenevent erfahren Sie\, wie Sie mit Vollmacht\, Patientenv
 erfügung und Testament die Weichen richtig stellen – rechtssicher\,
  steueroptimiert und vorausschauend.\n\nErleben Sie praxisnah\, wie durch 
 klare Regelungen Vermögen erhalten bleibt und familiäre Konflikte vermie
 den werden können.\n\nThemen im Überblick:\n\n 	Welche Vollmachten Sie u
 nbedingt benötigen\n\n\n 	Wie Sie steuerlich optimal vorsorgen\n\n\n 	Wie
  Sie Partner absichern und Erbstreitigkeiten vermeiden\n\nSo schaffen Sie 
 Klarheit – für sich\, Ihre Familie und Ihr Vermögen.\n\n&nbsp\;
ATTACH;FMTTYPE=image/jpeg:https://igb-vorsorge.de/wp-content/uploads/2025/
 11/Stefan-Skulesch-e1762771967404.png
LOCATION:https://institutgenerationenberatung.clickmeeting.com/so-sorgen-ve
 rmogende-kunden-am-besten-vor/register
END:VEVENT
BEGIN:VTIMEZONE
TZID:Europe/Berlin
X-LIC-LOCATION:Europe/Berlin
BEGIN:DAYLIGHT
DTSTART:20260329T030000
TZOFFSETFROM:+0100
TZOFFSETTO:+0200
TZNAME:CEST
END:DAYLIGHT
END:VTIMEZONE
END:VCALENDAR