BEGIN:VCALENDAR
VERSION:2.0
PRODID:-//wp-events-plugin.com//7.2.3.1//EN
BEGIN:VEVENT
UID:4@igb-vorsorge.de
DTSTART:20250402T173000Z
DTEND:20250402T183000Z
DTSTAMP:20250319T083257Z
URL:https://igb-vorsorge.de/events/testament-ja-aber-richtig/
SUMMARY:Testament? Ja\, aber richtig!
DESCRIPTION:Wer verheiratet ist\, Kinder hat oder eine Immobilie besitzt\, 
 braucht ein individuelles Testament. Doch nur 20 Prozent der Deutschen hab
 en eines errichtet. Viele schieben das Thema vor sich her – andere glaub
 en\, ein einfacher Einzeiler im Berliner Testament reicht aus.\n\nEin Irrt
 um mit Folgen: Ohne ein maßgeschneidertes Testament bleiben Hinterblieben
 e oft handlungsunfähig und zahlen unnötig Erbschaftsteuer.\n\nIn unserem
  Kundenevent erhalten Sie wertvolle Einblicke:\n\n 	Gestaltungsmöglichkei
 ten im Testament – erklärt von unserem Anwalt mit Spezialisierung auf E
 rbrecht\n 	Praxisbeispiele und wertvolle Tipps – direkt vom erfahrenen G
 enerationenberater\n\nNehmen Sie sich eine Stunde Zeit – für Ihre pers
 önliche Planung und die Zukunft Ihrer Liebsten!
LOCATION:https://institutgenerationenberatung.clickmeeting.com/testament-ja
 -aber-richtig-/register
END:VEVENT
END:VCALENDAR