BEGIN:VCALENDAR
VERSION:2.0
PRODID:-//wp-events-plugin.com//7.2.3.1//EN
BEGIN:VEVENT
UID:6@igb-vorsorge.de
DTSTART:20250924T173000Z
DTEND:20250924T183000Z
DTSTAMP:20250319T083928Z
URL:https://igb-vorsorge.de/events/unternehmen-rechtzeitig-absichern-nachh
 altig-sichern/
SUMMARY:Unternehmen – Rechtzeitig absichern\, nachhaltig sichern!
DESCRIPTION:Einzelunternehmer\, GmbH-Gesellschafter-Geschäftsführer oder 
 Beteiligte in Personengesellschaften – sie alle tragen täglich Verantwo
 rtung für ihr Unternehmen und ihre Mitarbeiter. Doch gerade die eigene re
 chtliche Absicherung bleibt oft auf der Strecke.\n\nDie Folgen können dra
 matisch sein:\n\nOhne klare Regelungen stehen im Ernstfall Hinterbliebene\
 , Unternehmen und Mitarbeiter vor großen Herausforderungen. Notgeschäfts
 führer\, familiengerichtliche Eingriffe für minderjährige Kinder oder s
 ogar der Verlust des Lebenswerks sind mögliche Konsequenzen.\n\nErfahren 
 Sie in unserem Event\, wie Sie Ihre Absicherung individuell gestalten und 
 dabei flexibel bleiben.\n\nThemen im Überblick:  \n\n 	Die 8 größten G
 efahren für Unternehmer – und wie Sie diese vermeiden\n 	Rechtliche Vor
 kehrungen für den Notfall – damit Fremde keine folgenschweren Entscheid
 ungen treffen\n 	Absicherung für Familie und Unternehmen – individuell 
 und praxisnah\n\nSichern Sie Ihre Zukunft und Ihr Unternehmen – mit gezi
 elten Maßnahmen\, die wirklich greifen.
LOCATION:https://institutgenerationenberatung.clickmeeting.com/unternehmen-
 rechtzeitig-absichern-nachhaltig-sichern-/register
END:VEVENT
END:VCALENDAR